<?xml version="1.0" encoding="UTF-8" standalone="no"?>
<metadata xml:lang="en">
<Esri>
<CreaDate>20190909</CreaDate>
<CreaTime>09304700</CreaTime>
<ArcGISFormat>1.0</ArcGISFormat>
<SyncOnce>FALSE</SyncOnce>
<DataProperties>
<lineage>
<Process Date="20190909" Time="093047" ToolSource="c:\program files (x86)\arcgis\desktop10.6\ArcToolbox\Toolboxes\Data Management Tools.tbx\CreateMosaicDataset">CreateMosaicDataset "Database Connections\Aerials006.sde" Hillsborough_County_2019 "PROJCS['NAD_1983_HARN_StatePlane_Florida_West_FIPS_0902_Feet',GEOGCS['GCS_North_American_1983_HARN',DATUM['D_North_American_1983_HARN',SPHEROID['GRS_1980',6378137.0,298.257222101]],PRIMEM['Greenwich',0.0],UNIT['Degree',0.0174532925199433]],PROJECTION['Transverse_Mercator'],PARAMETER['False_Easting',656166.6666666665],PARAMETER['False_Northing',0.0],PARAMETER['Central_Meridian',-82.0],PARAMETER['Scale_Factor',0.9999411764705882],PARAMETER['Latitude_Of_Origin',24.33333333333333],UNIT['Foot_US',0.3048006096012192]];-17791300 -41645400 3048.00609601219;-100000 10000;-100000 10000;3.28083333333333E-03;0.001;0.001;IsHighPrecision" # # NONE #</Process>
<Process Date="20190909" Time="104521" ToolSource="c:\program files (x86)\arcgis\desktop10.6\ArcToolbox\Toolboxes\Data Management Tools.tbx\BuildFootprints">BuildFootprints "Database Connections\Aerials006.sde\AERIALS.GIS.Hillsborough_County_2019" # RADIOMETRY 1 255 80 0 NO_MAINTAIN_EDGES SKIP_DERIVED_IMAGES UPDATE_BOUNDARY 2000 100 NONE # 20 0.05</Process>
<Process Date="20190909" Time="104614" ToolSource="c:\program files (x86)\arcgis\desktop10.6\ArcToolbox\Toolboxes\Data Management Tools.tbx\BuildBoundary">BuildBoundary "Database Connections\Aerials006.sde\AERIALS.GIS.Hillsborough_County_2019" # OVERWRITE NONE</Process>
<Process Date="20190909" Time="174048" ToolSource="c:\program files (x86)\arcgis\desktop10.6\ArcToolbox\Toolboxes\Data Management Tools.tbx\BuildPyramidsandStatistics">BuildPyramidsandStatistics "Database Connections\Aerials006.sde\AERIALS.GIS.Hillsborough_County_2019" INCLUDE_SUBDIRECTORIES BUILD_PYRAMIDS CALCULATE_STATISTICS NONE # NONE 1 1 # -1 NONE NEAREST DEFAULT 75 SKIP_EXISTING #</Process>
<Process Date="20190909" Time="184211" ToolSource="c:\program files (x86)\arcgis\desktop10.6\ArcToolbox\Toolboxes\Data Management Tools.tbx\CalculateStatistics">CalculateStatistics "Database Connections\Aerials006.sde\AERIALS.GIS.Hillsborough_County_2019" 1 1 # OVERWRITE "Feature Set"</Process>
<Process Date="20190911" Time="155040" ToolSource="c:\program files (x86)\arcgis\desktop10.6\ArcToolbox\Toolboxes\Data Management Tools.tbx\CalculateStatistics">CalculateStatistics "Database Connections\Aerials006.sde\AERIALS.GIS.Hillsborough_County_2019" 1 1 # OVERWRITE "Feature Set"</Process>
<Process Date="20190911" Time="164101" ToolSource="c:\program files (x86)\arcgis\desktop10.6\ArcToolbox\Toolboxes\Data Management Tools.tbx\DefineOverviews">DefineOverviews "Database Connections\Aerials006.sde\AERIALS.GIS.Hillsborough_County_2019" # # # # # 5120 5120 3 NO_FORCE_OVERVIEW_TILES BILINEAR JPEG 80</Process>
<Process Date="20190911" Time="164649" ToolSource="c:\program files (x86)\arcgis\desktop10.6\ArcToolbox\Toolboxes\Data Management Tools.tbx\DefineOverviews">DefineOverviews "Database Connections\Aerials006.sde\AERIALS.GIS.Hillsborough_County_2019" # # # # # 5120 5120 3 NO_FORCE_OVERVIEW_TILES BILINEAR JPEG 80</Process>
<Process Date="20190912" Time="073814" ToolSource="c:\program files (x86)\arcgis\desktop10.6\ArcToolbox\Toolboxes\Data Management Tools.tbx\BuildOverviews">BuildOverviews "Database Connections\Aerials006.sde\AERIALS.GIS.Hillsborough_County_2019" # DEFINE_MISSING_TILES GENERATE_OVERVIEWS GENERATE_MISSING_IMAGES REGENERATE_STALE_IMAGES</Process>
<Process Date="20190912" Time="074837" ToolSource="c:\program files (x86)\arcgis\desktop10.6\ArcToolbox\Toolboxes\Data Management Tools.tbx\AnalyzeMosaicDataset">AnalyzeMosaicDataset "Database Connections\Aerials006.sde\AERIALS.GIS.Hillsborough_County_2019" # FOOTPRINT;FUNCTION;RASTER;PATHS</Process>
<Process Date="20190912" Time="075643" ToolSource="c:\program files (x86)\arcgis\desktop10.6\ArcToolbox\Toolboxes\Data Management Tools.tbx\AnalyzeMosaicDataset">AnalyzeMosaicDataset "Database Connections\Aerials006.sde\AERIALS.GIS.Hillsborough_County_2019" # FOOTPRINT;FUNCTION;RASTER;PATHS</Process>
<Process Date="20190912" Time="090125" ToolSource="c:\program files (x86)\arcgis\desktop10.6\ArcToolbox\Toolboxes\Data Management Tools.tbx\SynchronizeMosaicDataset">SynchronizeMosaicDataset "Database Connections\Aerials006.sde\AERIALS.GIS.Hillsborough_County_2019" # NO_NEW_ITEMS SYNC_STALE UPDATE_CELL_SIZES UPDATE_BOUNDARY NO_OVERVIEWS NO_PYRAMIDS NO_STATISTICS NO_THUMBNAILS NO_ITEM_CACHE REBUILD_RASTER UPDATE_FIELDS CenterX;CenterY;GroupName;ProductName;Raster;Shape;Tag;ZOrder UPDATE_EXISTING_ITEMS IGNORE_BROKEN_ITEMS SKIP_EXISTING_ITEMS NO_REFRESH_INFO NO_STATISTICS</Process>
<Process Date="20190912" Time="105123" ToolSource="c:\program files (x86)\arcgis\desktop10.6\ArcToolbox\Toolboxes\Data Management Tools.tbx\SynchronizeMosaicDataset">SynchronizeMosaicDataset "Database Connections\Aerials006.sde\AERIALS.GIS.Hillsborough_County_2019" # NO_NEW_ITEMS SYNC_STALE UPDATE_CELL_SIZES UPDATE_BOUNDARY NO_OVERVIEWS NO_PYRAMIDS NO_STATISTICS NO_THUMBNAILS NO_ITEM_CACHE REBUILD_RASTER UPDATE_FIELDS # UPDATE_EXISTING_ITEMS IGNORE_BROKEN_ITEMS SKIP_EXISTING_ITEMS NO_REFRESH_INFO NO_STATISTICS</Process>
<Process Date="20190912" Time="105551" ToolSource="c:\program files (x86)\arcgis\desktop10.6\ArcToolbox\Toolboxes\Data Management Tools.tbx\SynchronizeMosaicDataset">SynchronizeMosaicDataset "Database Connections\Aerials006.sde\AERIALS.GIS.Hillsborough_County_2019" # NO_NEW_ITEMS SYNC_STALE UPDATE_CELL_SIZES UPDATE_BOUNDARY NO_OVERVIEWS NO_PYRAMIDS NO_STATISTICS NO_THUMBNAILS NO_ITEM_CACHE REBUILD_RASTER UPDATE_FIELDS # UPDATE_EXISTING_ITEMS IGNORE_BROKEN_ITEMS SKIP_EXISTING_ITEMS NO_REFRESH_INFO NO_STATISTICS</Process>
<Process Date="20190923" Time="094422" ToolSource="c:\program files (x86)\arcgis\desktop10.7\ArcToolbox\Toolboxes\Data Management Tools.tbx\SynchronizeMosaicDataset">SynchronizeMosaicDataset "Database Connections\Aerials006.sde\AERIALS.GIS.Hillsborough_County_2019" # NO_NEW_ITEMS SYNC_STALE UPDATE_CELL_SIZES UPDATE_BOUNDARY NO_OVERVIEWS NO_PYRAMIDS NO_STATISTICS NO_THUMBNAILS NO_ITEM_CACHE REBUILD_RASTER UPDATE_FIELDS CenterX;CenterY;GroupName;ProductName;Raster;Shape;Tag;ZOrder UPDATE_EXISTING_ITEMS IGNORE_BROKEN_ITEMS SKIP_EXISTING_ITEMS NO_REFRESH_INFO NO_STATISTICS</Process>
<Process Date="20190925" Time="092156" ToolSource="c:\program files (x86)\arcgis\desktop10.7\ArcToolbox\Toolboxes\Data Management Tools.tbx\SynchronizeMosaicDataset">SynchronizeMosaicDataset "Database Connections\Aerials006_GIS.sde\AERIALS.GIS.Hillsborough_County_2019" # NO_NEW_ITEMS SYNC_STALE UPDATE_CELL_SIZES UPDATE_BOUNDARY NO_OVERVIEWS NO_PYRAMIDS NO_STATISTICS NO_THUMBNAILS NO_ITEM_CACHE REBUILD_RASTER UPDATE_FIELDS CenterX;CenterY;GroupName;ProductName;Raster;Shape;Tag;ZOrder UPDATE_EXISTING_ITEMS IGNORE_BROKEN_ITEMS SKIP_EXISTING_ITEMS NO_REFRESH_INFO NO_STATISTICS</Process>
<Process Date="20190925" Time="110256" ToolSource="c:\program files (x86)\arcgis\desktop10.7\ArcToolbox\Toolboxes\Data Management Tools.tbx\SynchronizeMosaicDataset">SynchronizeMosaicDataset "Database Connections\Aerials006_GIS.sde\AERIALS.GIS.Hillsborough_County_2019" # NO_NEW_ITEMS SYNC_STALE UPDATE_CELL_SIZES UPDATE_BOUNDARY NO_OVERVIEWS NO_PYRAMIDS NO_STATISTICS NO_THUMBNAILS NO_ITEM_CACHE REBUILD_RASTER UPDATE_FIELDS CenterX;CenterY;GroupName;ProductName;Raster;Shape;Tag;ZOrder UPDATE_EXISTING_ITEMS IGNORE_BROKEN_ITEMS SKIP_EXISTING_ITEMS NO_REFRESH_INFO NO_STATISTICS</Process>
</lineage>
<itemProps>
<itemName Sync="TRUE">AERIALS.GIS.Hillsborough_County_2019</itemName>
<itemLocation>
<linkage Sync="TRUE">Server=sqlsde006; Service=sde:sqlserver:sqlsde006\sqlsde006; Database=AERIALS; User=GIS; Version=sde.DEFAULT</linkage>
<protocol Sync="TRUE">ArcSDE Connection</protocol>
</itemLocation>
<nativeExtBox>
<westBL Sync="TRUE">406523.000279</westBL>
<eastBL Sync="TRUE">640369.000279</eastBL>
<southBL Sync="TRUE">1176304.249254</southBL>
<northBL Sync="TRUE">1397865.749254</northBL>
<exTypeCode Sync="TRUE">1</exTypeCode>
</nativeExtBox>
</itemProps>
<coordRef>
<type Sync="TRUE">Projected</type>
<geogcsn Sync="TRUE">GCS_North_American_1983_HARN</geogcsn>
<csUnits Sync="TRUE">Linear Unit: Foot_US (0.304801)</csUnits>
<projcsn Sync="TRUE">NAD_1983_HARN_StatePlane_Florida_West_FIPS_0902_Feet</projcsn>
<peXml Sync="TRUE">&lt;ProjectedCoordinateSystem xsi:type='typens:ProjectedCoordinateSystem' xmlns:xsi='http://www.w3.org/2001/XMLSchema-instance' xmlns:xs='http://www.w3.org/2001/XMLSchema' xmlns:typens='http://www.esri.com/schemas/ArcGIS/10.7'&gt;&lt;WKT&gt;PROJCS[&amp;quot;NAD_1983_HARN_StatePlane_Florida_West_FIPS_0902_Feet&amp;quot;,GEOGCS[&amp;quot;GCS_North_American_1983_HARN&amp;quot;,DATUM[&amp;quot;D_North_American_1983_HARN&amp;quot;,SPHEROID[&amp;quot;GRS_1980&amp;quot;,6378137.0,298.257222101]],PRIMEM[&amp;quot;Greenwich&amp;quot;,0.0],UNIT[&amp;quot;Degree&amp;quot;,0.0174532925199433]],PROJECTION[&amp;quot;Transverse_Mercator&amp;quot;],PARAMETER[&amp;quot;False_Easting&amp;quot;,656166.6666666665],PARAMETER[&amp;quot;False_Northing&amp;quot;,0.0],PARAMETER[&amp;quot;Central_Meridian&amp;quot;,-82.0],PARAMETER[&amp;quot;Scale_Factor&amp;quot;,0.9999411764705882],PARAMETER[&amp;quot;Latitude_Of_Origin&amp;quot;,24.33333333333333],UNIT[&amp;quot;Foot_US&amp;quot;,0.3048006096012192],AUTHORITY[&amp;quot;EPSG&amp;quot;,2882]]&lt;/WKT&gt;&lt;XOrigin&gt;-17791300&lt;/XOrigin&gt;&lt;YOrigin&gt;-41645400&lt;/YOrigin&gt;&lt;XYScale&gt;137249422.94257641&lt;/XYScale&gt;&lt;ZOrigin&gt;-100000&lt;/ZOrigin&gt;&lt;ZScale&gt;10000&lt;/ZScale&gt;&lt;MOrigin&gt;-100000&lt;/MOrigin&gt;&lt;MScale&gt;10000&lt;/MScale&gt;&lt;XYTolerance&gt;0.0032808333333333331&lt;/XYTolerance&gt;&lt;ZTolerance&gt;0.001&lt;/ZTolerance&gt;&lt;MTolerance&gt;0.001&lt;/MTolerance&gt;&lt;HighPrecision&gt;true&lt;/HighPrecision&gt;&lt;WKID&gt;2882&lt;/WKID&gt;&lt;LatestWKID&gt;2882&lt;/LatestWKID&gt;&lt;/ProjectedCoordinateSystem&gt;</peXml>
</coordRef>
<RasterProperties>
<General>
<PixelDepth Sync="TRUE">8</PixelDepth>
<HasColormap Sync="TRUE">FALSE</HasColormap>
<CompressionType Sync="TRUE">None</CompressionType>
<NumBands Sync="TRUE">4</NumBands>
<Format Sync="TRUE">AMD</Format>
<HasPyramids Sync="TRUE">TRUE</HasPyramids>
<SourceType Sync="TRUE">continuous</SourceType>
<PixelType Sync="TRUE">unsigned integer</PixelType>
<NoDataValue Sync="TRUE"/>
</General>
<Properties>
<MaxImageHeight Sync="TRUE">4100</MaxImageHeight>
<MaxImageWidth Sync="TRUE">15000</MaxImageWidth>
<MaxRecordCount Sync="TRUE">1000</MaxRecordCount>
<MaxDownloadImageCount Sync="TRUE">20</MaxDownloadImageCount>
<MaxDownloadSizeLimit Sync="TRUE">2048</MaxDownloadSizeLimit>
<MaxMosaicImageCount Sync="TRUE">20</MaxMosaicImageCount>
<DefaultCompressionQuality Sync="TRUE">75</DefaultCompressionQuality>
<DefaultCompressionTolerance Sync="TRUE">0.01</DefaultCompressionTolerance>
<BlendWidth Sync="TRUE">10</BlendWidth>
<ViewpointSpacingX Sync="TRUE">600</ViewpointSpacingX>
<ViewpointSpacingY Sync="TRUE">300</ViewpointSpacingY>
<AllowedItemMetadata Sync="TRUE">Basic</AllowedItemMetadata>
<DefaultResamplingMethod Sync="TRUE">1</DefaultResamplingMethod>
<AllowedMosaicMethods Sync="TRUE">NorthWest,Center,LockRaster,ByAttribute,Nadir,Viewpoint,Seamline,None</AllowedMosaicMethods>
<AllowedCompressions Sync="TRUE">None,JPEG,LZ77,LERC</AllowedCompressions>
<AllowedMensurationCapabilities Sync="TRUE">None</AllowedMensurationCapabilities>
<AvailableMensurationCapabilities Sync="TRUE">None,Basic,Base-Top Height,Top-Top Shadow Height,Base-Top Shadow Height,3D</AvailableMensurationCapabilities>
<ClipToBoundary Sync="TRUE">-1</ClipToBoundary>
<FootprintMayContainNoData Sync="TRUE">-1</FootprintMayContainNoData>
<CellSizeTolerance Sync="TRUE">0.8</CellSizeTolerance>
<MinimumPixelContribution Sync="TRUE">1</MinimumPixelContribution>
<AvailableMosaicMethods Sync="TRUE">NorthWest,Center,LockRaster,ByAttribute,Nadir,Viewpoint,Seamline,None</AvailableMosaicMethods>
<AvailableCompressionMethods Sync="TRUE">None,JPEG,LZ77,LERC</AvailableCompressionMethods>
<AvailableItemMetadataLevels Sync="TRUE">None,Basic,Full</AvailableItemMetadataLevels>
<BandDefinitionKeyword Sync="TRUE">NONE</BandDefinitionKeyword>
<AllowedFields Sync="TRUE">Name,MinPS,MaxPS,LowPS,HighPS,Tag,GroupName,ProductName,CenterX,CenterY,ZOrder,Shape.STArea(),Shape.STLength()</AllowedFields>
<MaxCellSize Sync="TRUE">72900</MaxCellSize>
<LowCellSize Sync="TRUE">0.5</LowCellSize>
<HighCellSize Sync="TRUE">1458</HighCellSize>
<ClipToFootprint Sync="TRUE">-1</ClipToFootprint>
<ApplyColorCorrection Sync="TRUE">0</ApplyColorCorrection>
<_docversion_ Sync="TRUE">9</_docversion_>
</Properties>
<Functions Sync="TRUE">
<Function Description="Performs on-the-fly mosaic on a raster catalog." Name="Mosaic Function"/>
</Functions>
</RasterProperties>
</DataProperties>
<SyncDate>20200826</SyncDate>
<SyncTime>08351900</SyncTime>
<ModDate>20200826</ModDate>
<ModTime>08351900</ModTime>
</Esri>
<dataIdInfo>
<envirDesc Sync="TRUE"> Version 6.2 (Build 9200) ; Esri ArcGIS 10.7.1.11595</envirDesc>
<dataLang>
<languageCode Sync="TRUE" value="eng"/>
<countryCode Sync="TRUE" value="USA"/>
</dataLang>
<idCitation>
<resTitle Sync="TRUE">Hillsborough_County_2019</resTitle>
<presForm>
<PresFormCd Sync="TRUE" value="005"/>
</presForm>
</idCitation>
<spatRpType>
<SpatRepTypCd Sync="TRUE" value="002"/>
</spatRpType>
<dataExt>
<geoEle>
<GeoBndBox esriExtentType="search">
<exTypeCode Sync="TRUE">1</exTypeCode>
<westBL Sync="TRUE">-82.774890</westBL>
<eastBL Sync="TRUE">-82.048764</eastBL>
<northBL Sync="TRUE">28.179222</northBL>
<southBL Sync="TRUE">27.567658</southBL>
</GeoBndBox>
</geoEle>
</dataExt>
<idAbs/>
<searchKeys>
<keyword>GIS</keyword>
<keyword>Aerials</keyword>
<keyword>Tampa</keyword>
</searchKeys>
<idPurp>2019 Aerial Imagery for Hillsborough County</idPurp>
<idCredit/>
<resConst>
<Consts>
<useLimit/>
</Consts>
</resConst>
</dataIdInfo>
<mdLang>
<languageCode Sync="TRUE" value="eng"/>
<countryCode Sync="TRUE" value="USA"/>
</mdLang>
<refSysInfo>
<RefSystem>
<refSysID>
<identCode Sync="TRUE" code="2882"/>
<idCodeSpace Sync="TRUE">EPSG</idCodeSpace>
<idVersion Sync="TRUE">8.9.3(9.0.0)</idVersion>
</refSysID>
</RefSystem>
</refSysInfo>
<spatRepInfo>
<Georect>
<cellGeo>
<CellGeoCd Sync="TRUE" value="002"/>
</cellGeo>
<numDims Sync="TRUE">2</numDims>
<tranParaAv Sync="TRUE">1</tranParaAv>
<chkPtAv Sync="TRUE">0</chkPtAv>
<cornerPts>
<pos Sync="TRUE">406523.000279 1176304.249254</pos>
</cornerPts>
<cornerPts>
<pos Sync="TRUE">406523.000279 1397865.749254</pos>
</cornerPts>
<cornerPts>
<pos Sync="TRUE">640369.000279 1397865.749254</pos>
</cornerPts>
<cornerPts>
<pos Sync="TRUE">640369.000279 1176304.249254</pos>
</cornerPts>
<centerPt>
<pos Sync="TRUE">523446.000279 1287084.999254</pos>
</centerPt>
<axisDimension type="002">
<dimSize Sync="TRUE">467692</dimSize>
<dimResol>
<value Sync="TRUE" uom="ftUS">0.500000</value>
</dimResol>
</axisDimension>
<axisDimension type="001">
<dimSize Sync="TRUE">443123</dimSize>
<dimResol>
<value Sync="TRUE" uom="ftUS">0.500000</value>
</dimResol>
</axisDimension>
<ptInPixel>
<PixOrientCd Sync="TRUE" value="001"/>
</ptInPixel>
</Georect>
</spatRepInfo>
<contInfo>
<ImgDesc>
<contentTyp>
<ContentTypCd Sync="TRUE" value="001"/>
</contentTyp>
<covDim>
<Band>
<dimDescrp Sync="TRUE">Band_1</dimDescrp>
<maxVal Sync="TRUE">255.000000</maxVal>
<minVal Sync="TRUE">2.000000</minVal>
<bitsPerVal Sync="TRUE">8</bitsPerVal>
<valUnit>
<UOM type="length"/>
</valUnit>
</Band>
<Band>
<dimDescrp Sync="TRUE">Band_2</dimDescrp>
<maxVal Sync="TRUE">255.000000</maxVal>
<minVal Sync="TRUE">6.000000</minVal>
<bitsPerVal Sync="TRUE">8</bitsPerVal>
<valUnit>
<UOM type="length"/>
</valUnit>
</Band>
<Band>
<dimDescrp Sync="TRUE">Band_3</dimDescrp>
<maxVal Sync="TRUE">254.000000</maxVal>
<minVal Sync="TRUE">9.000000</minVal>
<bitsPerVal Sync="TRUE">8</bitsPerVal>
<valUnit>
<UOM type="length"/>
</valUnit>
</Band>
<Band>
<dimDescrp Sync="TRUE">Band_4</dimDescrp>
<maxVal Sync="TRUE">255.000000</maxVal>
<minVal Sync="TRUE">227.000000</minVal>
<bitsPerVal Sync="TRUE">8</bitsPerVal>
<valUnit>
<UOM type="length"/>
</valUnit>
</Band>
</covDim>
</ImgDesc>
</contInfo>
<mdDateSt Sync="TRUE">20200826</mdDateSt>
</metadata>
